BEGIN:VCALENDAR
VERSION:2.0
PRODID:-//ChamberMaster//Event Calendar 2.0//EN
METHOD:PUBLISH
X-PUBLISHED-TTL:P3D
REFRESH-INTERVAL:P3D
CALSCALE:GREGORIAN
BEGIN:VEVENT
DTSTART:20180811T150000Z
DTEND:20180811T190000Z
X-MICROSOFT-CDO-ALLDAYEVENT:FALSE
SUMMARY:10th Annual Historic Saugeen Metis Rendezvous
DESCRIPTION:10th Annual Historic Saugeen M tis Rendezvous. Come celebrate the 200th Anniversary of the Pich  Wampum. Deep-fried Lake Whitefish on a bun and refreshments available for a modest price.  Bring your family\, friends and lawn chair to Pioneer Park\, Southampton to enjoy the fiddle music of 3-time Canadian Grand Master\, Shane Cook. Enjoy the many M tis cultural exhibits and vendors.
X-ALT-DESC;FMTTYPE=text/html:10th Annual Historic Saugeen M&eacute\;tis Rendezvous. Come celebrate the 200th Anniversary of the Pich&eacute\; Wampum. Deep-fried Lake Whitefish on a bun and refreshments available for a modest price.&nbsp\; Bring your family\, friends and lawn chair to Pioneer Park\, Southampton to enjoy the fiddle music of 3-time Canadian Grand Master\, Shane Cook. Enjoy the many M&eacute\;tis cultural exhibits and vendors.
LOCATION:Pioneer Park\, 86 Saugeen Street\, Southampton
UID:e.2689.12960
SEQUENCE:3
DTSTAMP:20260420T150050Z
URL:https://www.saugeenshoreschamber.ca/events/details/10th-annual-historic-saugeen-metis-rendezvous-12960
END:VEVENT

END:VCALENDAR
