BEGIN:VCALENDAR
VERSION:2.0
PRODID:-//ChamberMaster//Event Calendar 2.0//EN
METHOD:PUBLISH
X-PUBLISHED-TTL:P3D
REFRESH-INTERVAL:P3D
CALSCALE:GREGORIAN
BEGIN:VEVENT
DTSTART:20180804T130000Z
DTEND:20180804T200000Z
X-MICROSOFT-CDO-ALLDAYEVENT:FALSE
SUMMARY:11th Annual Up Your alley Art and Craft Sale
DESCRIPTION:11th Annual Up Your Alley Art and Craft Sale  The Southampton Art Centre is proud to host their 11th annual outdoor arts and crafts sale. There will be a variety of fine arts and crafts available for purchase that you wont want to miss. This event is just one of the many events happening throughout the Southampton community on the long weekend. So make time to stop by and check it out!
X-ALT-DESC;FMTTYPE=text/html:<strong>&nbsp\;11th&nbsp\;Annual Up Your Alley Art and Craft Sale&nbsp\;&nbsp\;</strong>The Southampton Art Centre is proud to host their 11th annual outdoor arts and crafts sale. There will be a variety of fine arts and crafts available for purchase that you wont want to miss. This event is just one of the many events happening&nbsp\;throughout the Southampton community on the long weekend. So make time to stop by and check it out!
LOCATION:Southampton Art School & Gallery 201 High Street \,Southampton
UID:e.2689.13251
SEQUENCE:3
DTSTAMP:20260420T131744Z
URL:https://www.saugeenshoreschamber.ca/events/details/11th-annual-up-your-alley-art-and-craft-sale-13251
END:VEVENT

END:VCALENDAR
