BEGIN:VCALENDAR
VERSION:2.0
PRODID:-//ChamberMaster//Event Calendar 2.0//EN
METHOD:PUBLISH
X-PUBLISHED-TTL:P3D
REFRESH-INTERVAL:P3D
CALSCALE:GREGORIAN
BEGIN:VEVENT
DTSTART:20180524T223000Z
DTEND:20180525T010000Z
X-MICROSOFT-CDO-ALLDAYEVENT:FALSE
SUMMARY:2018 Provincial All Candidates Meeting
DESCRIPTION:The Saugeen Shores Chamber of Commerce is proud to host the upcoming Provincial All Candidates Meeting.  We are pleased to partner with the Kincardine Chamber of Commerce and the Canadian Federation of University Women to stage the evening.  Local Media have aided us in getting the word out to the public\, and for that we thank them.\n\n \n\nThe Kincardine and Saugeen Shores Chamber of Commerce are non-partisan and will not support any one candidate.  Our role is to create a forum for candidates and the public to connect.\n\n Should you be unable to attend in person\, but wish to submit a question please forward your question to joannerobbins@saugeenshores.ca .   Questions will be compiled and forwarded to the moderator\, John Divinski.  Every effort will be made to include your question in the proceedings and/or be forwarded to the Candidates for comment.\n\n \n\nPlease feel free to contact Saugeen Shores General Manager\, Joanne Robbins\, or Kincardine General Manager\, Terry Ann if you would like further information or want to discuss issues affecting you as a business owner or resident.\n\n \n\nThe Chamber Team\n\nSaugeen Shores Chamber of Commerce\n\n1-519-832-2332\n\nKincardine Chamber of Commerce\n\n519-396-9333
X-ALT-DESC;FMTTYPE=text/html:<span style="font-size:12.0pt\;">The Saugeen Shores Chamber of Commerce is proud to host the upcoming Provincial All Candidates Meeting.&nbsp\; We are pleased to partner with the Kincardine Chamber of Commerce and the Canadian Federation of University Women to stage the evening.&nbsp\; Local Media have aided us in getting the word out to the public\, and for that we thank them.</span><br />\n&nbsp\;<br />\n<span style="font-size:12.0pt\;">The Kincardine and Saugeen Shores Chamber of Commerce are non-partisan and <strong><u>will not</u></strong> support any one candidate.&nbsp\; Our role is to create a forum for candidates and the public to connect.</span><br />\n&nbsp\;<span style="font-size:12pt\;">Should you be unable to attend in person\, but wish to submit a question please forward your question to </span><a href="mailto:joannerobbins@saugeenshores.ca" style="font-size:12pt\;">joannerobbins@saugeenshores.ca</a><span style="font-size:12pt\;"> .</span>&nbsp\;&nbsp\; <span style="font-size:12pt\;">Questions will be compiled and forwarded to the moderator\, John Divinski.</span>&nbsp\; <span style="font-size:12pt\;">Every effort will be made to include your question in the proceedings and/or be forwarded to the Candidates for comment.</span><br />\n&nbsp\;<br />\n<span style="font-size:12.0pt\;">Please feel free to contact Saugeen Shores General Manager\, Joanne Robbins\, or Kincardine General Manager\, Terry Ann if you would like further information or want to discuss issues affecting you as a business owner or resident.</span><br />\n&nbsp\;<br />\n<span style="font-size:12.0pt\;">The Chamber Team</span><br />\n<span style="font-size:12.0pt\;">Saugeen Shores Chamber of Commerce</span><br />\n<span style="font-size:12.0pt\;">1-519-832-2332</span><br />\n<span style="font-size:12.0pt\;">Kincardine Chamber of Commerce</span><br />\n<span style="font-size:12.0pt\;">519-396-9333</span><br />\n&nbsp\;
LOCATION:Port Elgin Community Complex 600 Tomlinson Drive Port Elgin\, Ontario
UID:e.2689.17196
SEQUENCE:3
DTSTAMP:20260420T065532Z
URL:https://www.saugeenshoreschamber.ca/events/details/2018-provincial-all-candidates-meeting-17196
END:VEVENT

END:VCALENDAR
