BEGIN:VCALENDAR
VERSION:2.0
PRODID:-//ChamberMaster//Event Calendar 2.0//EN
METHOD:PUBLISH
X-PUBLISHED-TTL:P3D
REFRESH-INTERVAL:P3D
CALSCALE:GREGORIAN
BEGIN:VEVENT
DTSTART:20180929T170000Z
DTEND:20180929T190000Z
X-MICROSOFT-CDO-ALLDAYEVENT:FALSE
SUMMARY:6 Dangerous Myths that Suck our Energy\, Steals our Dreams\, and Allow Us to Feel Misunderstood
DESCRIPTION:Divorce!  Death of a pet or a loved one!  Job Loss!  Retirement!\n\n\n\nWe've all experienced a loss that leaves us feeling empty\, sometimes physically\, sometimes emotionally\, and sometimes spiritually. \n\n\n\nTammy Adams of Intuitive Understanding\, a Certified Grief Recovery Method  Specialist\, will be sharing an open and honest discussion on how to recover from the crippling pain of grief.  Tammy has witnessed the power of this incredible program.  She knows it is possible to move forward and step fully back into life.\n\n\n\nJoin us for a safe discussion on what grief really is\, the myths that prevent healing\, and an honest discussion that recovering from an emotional loss of any kind is possible.\n\n\n\nSpace is limited so be sure to reserve your spot.
X-ALT-DESC;FMTTYPE=text/html:<div><span style="background-color:transparent\; font-family:helvetica\,arial\,sans-serif\; font-size:12px"><strong>Divorce!&nbsp\; Death of a pet or a loved one!&nbsp\; Job Loss!&nbsp\; Retirement!</strong><br />\n<br />\nWe&rsquo\;ve all experienced a loss that leaves us feeling empty\, sometimes physically\, sometimes emotionally\, and sometimes spiritually.&nbsp\;<br />\n<br />\nTammy Adams of Intuitive Understanding\, a Certified Grief Recovery Method&reg\; Specialist\, will be sharing an open and honest discussion on how to recover from the crippling pain of grief.&nbsp\; Tammy has witnessed the power of this incredible program.&nbsp\; She knows it is possible to move forward and step fully back into life.<br />\n<br />\nJoin us for a safe discussion on what grief really is\, the myths that prevent healing\, and an honest discussion that recovering from an emotional loss of any kind is possible.<br />\n<br />\nSpace is limited so be sure to reserve your spot.</span>&nbsp\;</div>\n\n<div>&nbsp\;</div>\n
LOCATION:The Chakra House of Healing 26 Grosvenor Street North Southampton\, Ontario
UID:e.2689.17533
SEQUENCE:3
DTSTAMP:20260420T164159Z
URL:https://www.saugeenshoreschamber.ca/events/details/6-dangerous-myths-that-suck-our-energy-steals-our-dreams-and-allow-us-to-feel-misunderstood-17533
END:VEVENT

END:VCALENDAR
