BEGIN:VCALENDAR
VERSION:2.0
PRODID:-//ChamberMaster//Event Calendar 2.0//EN
METHOD:PUBLISH
X-PUBLISHED-TTL:P3D
REFRESH-INTERVAL:P3D
CALSCALE:GREGORIAN
BEGIN:VEVENT
DTSTART:20181202T200000Z
DTEND:20181202T220000Z
X-MICROSOFT-CDO-ALLDAYEVENT:FALSE
SUMMARY:A Cappella Chamber Choir Christmas Concert
DESCRIPTION:A Cappella Chamber Choir Christmas Concert at the Port Elgin United Church from 3pm-5pm.
X-ALT-DESC;FMTTYPE=text/html:A Cappella Chamber Choir Christmas Concert at the Port Elgin United Church from 3pm-5pm.
LOCATION:Port Elgin United Church\, 840 Bruce Street\, Port Elgin
UID:e.2689.13110
SEQUENCE:3
DTSTAMP:20260421T133725Z
URL:https://www.saugeenshoreschamber.ca/events/details/a-cappella-chamber-choir-christmas-concert-13110
END:VEVENT

END:VCALENDAR
