BEGIN:VCALENDAR
VERSION:2.0
PRODID:-//ChamberMaster//Event Calendar 2.0//EN
METHOD:PUBLISH
X-PUBLISHED-TTL:P3D
REFRESH-INTERVAL:P3D
CALSCALE:GREGORIAN
BEGIN:VEVENT
DTSTART:20200418T140000Z
DTEND:20200418T200000Z
X-MICROSOFT-CDO-ALLDAYEVENT:FALSE
SUMMARY:A Medieval Day
DESCRIPTION:Medieval Day. At the Bruce County Museum & Cultural Centre. Delve into daily life of medieval times. Living history enthusiasts present medieval activities\, dress and artistry\, as well as demonstrations of armoured combat\, and fencing. Bring the whole family and be transported to the middle ages! Members Free General Admission applies
X-ALT-DESC;FMTTYPE=text/html:Medieval Day. At the Bruce County Museum &amp\; Cultural Centre. Delve into daily life of medieval times. Living history enthusiasts present medieval activities\, dress and artistry\, as well as demonstrations of armoured combat\, and fencing. Bring the whole family and be transported to the middle ages! Members Free General Admission applies
LOCATION:Bruce County Museum & Cultural Centre.
UID:e.2689.23600
SEQUENCE:3
DTSTAMP:20260420T083007Z
URL:https://www.saugeenshoreschamber.ca/events/details/a-medieval-day-04-18-2020-23600
END:VEVENT

END:VCALENDAR
