BEGIN:VCALENDAR
VERSION:2.0
PRODID:-//ChamberMaster//Event Calendar 2.0//EN
METHOD:PUBLISH
X-PUBLISHED-TTL:P3D
REFRESH-INTERVAL:P3D
CALSCALE:GREGORIAN
BEGIN:VEVENT
DTSTART:20180926T190000Z
DTEND:20180926T200000Z
X-MICROSOFT-CDO-ALLDAYEVENT:FALSE
SUMMARY:Adult Book Club
DESCRIPTION:Adult Book Club. Held on the last Wednesday of the month 3-4pm at Southampton Library. New members are welcome. Ask staff for a copy of the book of the month. In September\, we will be sharing vegetarian cookbooks.
X-ALT-DESC;FMTTYPE=text/html:Adult Book Club. Held on the last Wednesday of the month 3-4pm at Southampton Library. New members are welcome. Ask staff for a copy of the book of the month. In September\, we will be sharing vegetarian cookbooks.
LOCATION:Southampton Library
UID:e.2689.17573
SEQUENCE:3
DTSTAMP:20260420T150223Z
URL:https://www.saugeenshoreschamber.ca/events/details/adult-book-club-09-26-2018-17573
END:VEVENT

END:VCALENDAR
