BEGIN:VCALENDAR
VERSION:2.0
PRODID:-//ChamberMaster//Event Calendar 2.0//EN
METHOD:PUBLISH
X-PUBLISHED-TTL:P3D
REFRESH-INTERVAL:P3D
CALSCALE:GREGORIAN
BEGIN:VEVENT
DTSTART:20180927T190000Z
DTEND:20180927T200000Z
X-MICROSOFT-CDO-ALLDAYEVENT:FALSE
SUMMARY:Adult Book Club
DESCRIPTION:Adult Book Club. Last Thursday of the Month. At 3pm at the Port Elgin Branch Library. New members are welcome! ask staff for a copy of the book of the month. September's book is Into the Wilderness by Sara Donati.
X-ALT-DESC;FMTTYPE=text/html:Adult Book Club. Last Thursday of the Month. At 3pm at the Port Elgin Branch Library. New members are welcome! ask staff for a copy of the book of the month. September&#39\;s book is Into the Wilderness by Sara Donati.
LOCATION:Port Elgin Branch Library
UID:e.2689.17577
SEQUENCE:3
DTSTAMP:20260420T150224Z
URL:https://www.saugeenshoreschamber.ca/events/details/adult-book-club-09-27-2018-17577
END:VEVENT

END:VCALENDAR
