BEGIN:VCALENDAR
VERSION:2.0
PRODID:-//ChamberMaster//Event Calendar 2.0//EN
METHOD:PUBLISH
X-PUBLISHED-TTL:P3D
REFRESH-INTERVAL:P3D
CALSCALE:GREGORIAN
BEGIN:VEVENT
DTSTART:20181025T190000Z
DTEND:20181025T200000Z
X-MICROSOFT-CDO-ALLDAYEVENT:FALSE
SUMMARY:Adult Book Club
DESCRIPTION:Adult Book Club. On the Last Thursday of the Month. At 3pm at the Port Elgin Branch Library. New members are welcome! Ask staff for a copy of the book of the month. October's book is Salem's Lot by Steven King.
X-ALT-DESC;FMTTYPE=text/html:Adult Book Club. On the Last Thursday of the Month. At 3pm at the Port Elgin Branch Library. New members are welcome! Ask staff for a copy of the book of the month. October&#39\;s book is Salem&#39\;s Lot by Steven King.
LOCATION:Port Elgin Branch Library
UID:e.2689.17581
SEQUENCE:3
DTSTAMP:20260420T181458Z
URL:https://www.saugeenshoreschamber.ca/events/details/adult-book-club-10-25-2018-17581
END:VEVENT

END:VCALENDAR
