BEGIN:VCALENDAR
VERSION:2.0
PRODID:-//ChamberMaster//Event Calendar 2.0//EN
METHOD:PUBLISH
X-PUBLISHED-TTL:P3D
REFRESH-INTERVAL:P3D
CALSCALE:GREGORIAN
BEGIN:VEVENT
DTSTART:20181003T200000Z
DTEND:20181003T210000Z
X-MICROSOFT-CDO-ALLDAYEVENT:FALSE
SUMMARY:After School Spanish
DESCRIPTION:After School Spanish.  Weekly\, on Wednesday from September 5 to December 19. At 4pm at the Southampton Branch Library. Come to the library after school to have some fun learning Spanish! (Recommended for school age children)
X-ALT-DESC;FMTTYPE=text/html:After School Spanish.&nbsp\; Weekly\, on Wednesday from September 5 to December 19. At 4pm at the Southampton Branch Library. Come to the library after school to have some fun learning Spanish! (Recommended for school age children)
LOCATION:Southampton Library
UID:e.2689.17701
SEQUENCE:3
DTSTAMP:20260420T163719Z
URL:https://www.saugeenshoreschamber.ca/events/details/after-school-spanish-10-03-2018-17701
END:VEVENT

END:VCALENDAR
