BEGIN:VCALENDAR
VERSION:2.0
PRODID:-//ChamberMaster//Event Calendar 2.0//EN
METHOD:PUBLISH
X-PUBLISHED-TTL:P3D
REFRESH-INTERVAL:P3D
CALSCALE:GREGORIAN
BEGIN:VEVENT
DTSTART:20180925T223000Z
DTEND:20180926T010000Z
X-MICROSOFT-CDO-ALLDAYEVENT:FALSE
SUMMARY:All Candidates Meeting
DESCRIPTION:The Saugeen Shores Chamber of Commerce and the Canadian Federation of University Women are proud to host a Municipal All Candidates Meeting for the residents of Saugeen Shores. The All Candidates Meeting is a forum to provide residents with information to help them make a knowledgeable election decision regarding the candidates that best represent them. The meeting is open to all members of the general public.  \n\n\n\nSpecial thank you to the Town of Saugeen Shores for the venue and John Divinski for moderating the event.\n\n\n\nFor more information about the election visit saugeenshores.ca and find the Election link under the Town Hall tab.
X-ALT-DESC;FMTTYPE=text/html:The Saugeen Shores Chamber of Commerce and the Canadian Federation of University Women are proud to host a Municipal All Candidates Meeting for the residents of Saugeen Shores.&nbsp\;<span style="font-family: arial\,sans-serif\;">The All Candidates Meeting is a forum to provide residents with information to help them make a knowledgeable election decision regarding the candidates that best represent them. The meeting is open to all members of the general public.&nbsp\;&nbsp\;</span><br />\n<br />\nSpecial thank you to the Town of Saugeen Shores for the venue and John Divinski for moderating the event.<br />\n<br />\nFor more information about the election visit <a href="http://www.saugeenshores.ca">saugeenshores.ca</a> and find the Election link under the Town Hall tab.&nbsp\;
LOCATION:Rotary Hall at the Plex Port Elgin\, ON
UID:e.2689.17554
SEQUENCE:3
DTSTAMP:20260420T163801Z
URL:https://www.saugeenshoreschamber.ca/events/details/all-candidates-meeting-17554
END:VEVENT

END:VCALENDAR
