BEGIN:VCALENDAR
VERSION:2.0
PRODID:-//ChamberMaster//Event Calendar 2.0//EN
METHOD:PUBLISH
X-PUBLISHED-TTL:P3D
REFRESH-INTERVAL:P3D
CALSCALE:GREGORIAN
BEGIN:VEVENT
DTSTART:20180812T160000Z
DTEND:20180812T180000Z
X-MICROSOFT-CDO-ALLDAYEVENT:FALSE
SUMMARY:An Evening with a Psychic Medium
DESCRIPTION:One of my great friends and Psychic Medium\, Sharon McGregor is having an Event at the Southampton Legion on Sunday. Please text me at 416-271-4936 or 519-800-5575 to RSVP as payment must be made in advance as space is limited.
X-ALT-DESC;FMTTYPE=text/html:One of my great friends and Psychic Medium\, Sharon McGregor is having an Event at the Southampton Legion on Sunday. Please text me at 416-271-4936 or 519-800-5575 to RSVP as payment must be made in advance as space is limited.
LOCATION:Southampton Legion
UID:e.2689.17550
SEQUENCE:3
DTSTAMP:20260420T131238Z
URL:https://www.saugeenshoreschamber.ca/events/details/an-evening-with-a-psychic-medium-08-12-2018-17550
END:VEVENT

END:VCALENDAR
