BEGIN:VCALENDAR
VERSION:2.0
PRODID:-//ChamberMaster//Event Calendar 2.0//EN
METHOD:PUBLISH
X-PUBLISHED-TTL:P3D
REFRESH-INTERVAL:P3D
CALSCALE:GREGORIAN
BEGIN:VEVENT
DTSTART:20180811T220000Z
DTEND:20180812T010000Z
X-MICROSOFT-CDO-ALLDAYEVENT:FALSE
SUMMARY:An Evening with a Psychic Medium
DESCRIPTION:One of My great friends and Psychic Medium\, Sharon McGregor is having an Event at the Legion on Sunday and so I thought it would be great to have an intimate evening with a Psychic Medium right here for us to enjoy at The Chakra House of Healing...weather permitting we will be outdoors on the back deck. If not we will be inside...but it is happening.\n\n\n\n \n\n\nPlease text me at 416-271-4936 or 519-800-5575 to RSVP as payment must be made in advance as space is limited.
X-ALT-DESC;FMTTYPE=text/html:<div>\n<div><span style="background-color:transparent !important\; font-family:inherit"><strong>One of My great friends and Psychic Medium\, Sharon McGregor</strong> is having an Event at the Legion on Sunday and so I thought it would be great to have an intimate evening with a Psychic Medium right here for us to enjoy at The Chakra House of Healing...weather permitting we will be outdoors on the back deck. If not we will be inside...but it is happening.</span></div>\n</div>\n\n<div>\n<div>&nbsp\;</div>\n</div>\n\n<div><span style="background-color:transparent\; font-family:inherit">Please text me at 416-271-4936 or 519-800-5575 to RSVP as payment must be made in advance as space is limited.</span></div>\n
LOCATION:The Chakra House of Healing 26 Grosvenor Street North Southampton\, Ontario
UID:e.2689.17534
SEQUENCE:3
DTSTAMP:20260420T131059Z
URL:https://www.saugeenshoreschamber.ca/events/details/an-evening-with-a-psychic-medium-17534
END:VEVENT

END:VCALENDAR
