BEGIN:VCALENDAR
VERSION:2.0
PRODID:-//ChamberMaster//Event Calendar 2.0//EN
METHOD:PUBLISH
X-PUBLISHED-TTL:P3D
REFRESH-INTERVAL:P3D
CALSCALE:GREGORIAN
BEGIN:VEVENT
DTSTART:20180820T210000Z
DTEND:20180820T230000Z
X-MICROSOFT-CDO-ALLDAYEVENT:FALSE
SUMMARY:Annual Pork BBQ
DESCRIPTION:BBQ pork\, baked potato\, baked beans\, coleslaw\, roll with butter\, dessert\, tea/coffee/cold drink. Tickets are $20 adults\, Kids 5-11 $10 For tickets: 519-368-5304\, 519-389-9580 or 519-389-2119
X-ALT-DESC;FMTTYPE=text/html:BBQ pork\, baked potato\, baked beans\, coleslaw\, roll with butter\, dessert\, tea/coffee/cold drink. Tickets are $20 adults\, Kids 5-11 $10 For tickets: 519-368-5304\, 519-389-9580 or 519-389-2119
LOCATION:Bruce Township Community Centre (Underwood)
UID:e.2689.17552
SEQUENCE:3
DTSTAMP:20260420T131100Z
URL:https://www.saugeenshoreschamber.ca/events/details/annual-pork-bbq-17552
END:VEVENT

END:VCALENDAR
