BEGIN:VCALENDAR
VERSION:2.0
PRODID:-//ChamberMaster//Event Calendar 2.0//EN
METHOD:PUBLISH
X-PUBLISHED-TTL:P3D
REFRESH-INTERVAL:P3D
CALSCALE:GREGORIAN
BEGIN:VEVENT
DTSTART:20180901T140000Z
DTEND:20180902T200000Z
X-MICROSOFT-CDO-ALLDAYEVENT:FALSE
SUMMARY:Art at the Links
DESCRIPTION:Art At The Links by the Shoreline Artists Association and the Westlinks Golf Club in Port Elgin ! There will be a variety of art work such as paintings\, pottery\, photography and more! This event is co presented by Shoreline Artists and Golf Club at Westlinks.
X-ALT-DESC;FMTTYPE=text/html:Art At The Links by the Shoreline Artists Association and the Westlinks Golf Club in Port Elgin ! There will be a variety of art work such as paintings\, pottery\, photography and more! This event is co presented by Shoreline Artists and Golf Club at Westlinks.
LOCATION:The Club at Westlinks\, 2089 Bruce County Road 17\, RR#3\, Port Elgin
UID:e.2689.17551
SEQUENCE:3
DTSTAMP:20260420T145823Z
URL:https://www.saugeenshoreschamber.ca/events/details/art-at-the-links-17551
END:VEVENT

END:VCALENDAR
