BEGIN:VCALENDAR
VERSION:2.0
PRODID:-//ChamberMaster//Event Calendar 2.0//EN
METHOD:PUBLISH
X-PUBLISHED-TTL:P3D
REFRESH-INTERVAL:P3D
CALSCALE:GREGORIAN
BEGIN:VEVENT
DTSTART:20180803T220000Z
DTEND:20180804T170000Z
X-MICROSOFT-CDO-ALLDAYEVENT:FALSE
SUMMARY:Artisans' Festival and Treasure Sale
DESCRIPTION:6th Annual Artisans' Festival and Treasure Sale will feature artwork and crafts\, Boutique items\, a giant bake sale\, garage sale / Treasures\, plant sale\, BBQ and much more. The Garage / Treasures Sale will be open on Friday\, Aug 3 from 6 - 8. The entire sale will take place on Saturday\, Aug 4 from 9 am - 1 pm.
X-ALT-DESC;FMTTYPE=text/html:6th Annual Artisans&#39\; Festival and Treasure Sale will feature artwork and crafts\, Boutique items\, a giant bake sale\, garage sale / Treasures\, plant sale\, BBQ and much more. The Garage / Treasures Sale will be open on Friday\, Aug 3 from 6 - 8. The entire sale will take place on Saturday\, Aug 4 from 9 am - 1 pm.
LOCATION:St. Paul's Anglican Church\, 248 High Street\, Southampton
UID:e.2689.17545
SEQUENCE:3
DTSTAMP:20260420T150222Z
URL:https://www.saugeenshoreschamber.ca/events/details/artisans-festival-and-treasure-sale-17545
END:VEVENT

END:VCALENDAR
