BEGIN:VCALENDAR
VERSION:2.0
PRODID:-//ChamberMaster//Event Calendar 2.0//EN
METHOD:PUBLISH
X-PUBLISHED-TTL:P3D
REFRESH-INTERVAL:P3D
CALSCALE:GREGORIAN
BEGIN:VEVENT
DTSTART:20180830T173000Z
DTEND:20180830T183000Z
X-MICROSOFT-CDO-ALLDAYEVENT:FALSE
SUMMARY:Author Talk with Bruce Geddes
DESCRIPTION:Select Dates or Author Talk with Bruce Geddes Aug 30\, 2018 Join experienced author Bruce Geddes as he talks about his novel\, The Higher the Monkey Climbs. A former producer for CBC and writer of 2 Lonely Planet books\, Bruce's book explores family relationships and whether sometimes questions from the past really need to be answered. Please contact the library to reserve your space. Books are available for pre-purchase by contacting Fincher's in Kincardine (519-396-7012). Books pre-purchased by August 7 will be delivered to Port Elgin Branch Library the day of the event.
X-ALT-DESC;FMTTYPE=text/html:Select Dates or Author Talk with Bruce Geddes Aug 30\, 2018 Join experienced author Bruce Geddes as he talks about his novel\, The Higher the Monkey Climbs. A former producer for CBC and writer of 2 Lonely Planet books\, Bruce&#39\;s book explores family relationships and whether sometimes questions from the past really need to be answered. Please contact the library to reserve your space. Books are available for pre-purchase by contacting Fincher&#39\;s in Kincardine (519-396-7012). Books pre-purchased by August 7 will be delivered to Port Elgin Branch Library the day of the event.
LOCATION:Port Elgin Branch Library
UID:e.2689.17548
SEQUENCE:3
DTSTAMP:20260420T145654Z
URL:https://www.saugeenshoreschamber.ca/events/details/author-talk-with-bruce-geddes-17548
END:VEVENT

END:VCALENDAR
