BEGIN:VCALENDAR
VERSION:2.0
PRODID:-//ChamberMaster//Event Calendar 2.0//EN
METHOD:PUBLISH
X-PUBLISHED-TTL:P3D
REFRESH-INTERVAL:P3D
CALSCALE:GREGORIAN
BEGIN:VEVENT
DTSTART:20180915T140000Z
DTEND:20181014T220000Z
X-MICROSOFT-CDO-ALLDAYEVENT:FALSE
SUMMARY:Autumn Harvest Festival - In Paisley
DESCRIPTION:Autumn Harvest Festival - In Paisley. Ongoing from September 15 to October 14. This show features diverse artistic creations of all kinds that celebrate the fall season making it a truly very unique show. Special features include evenings of fine dining that will feature unique menus produced from the local autumn harvest by reservation only. Menus will be posted on our website in mid-Sept. Doors are open daily from 10:00 am to 6:00 pm. For more information go to www.naturesmillworks.com.
X-ALT-DESC;FMTTYPE=text/html:<strong>Autumn Harvest Festival - In Paisley.</strong>&nbsp\;Ongoing from September 15 to October 14. This show features diverse artistic creations of all kinds that celebrate the fall season making it a truly very unique show. Special features include evenings of fine dining that will feature unique menus produced from the local autumn harvest by reservation only. Menus will be posted on our website in mid-Sept. Doors are open daily from 10:00 am to 6:00 pm. For more information go to www.naturesmillworks.com.
LOCATION:Nature's Millworks\, 4575 Bruce Rd. 1\, Paisley\, ON
UID:e.2689.14712
SEQUENCE:3
DTSTAMP:20260420T150230Z
URL:https://www.saugeenshoreschamber.ca/events/details/autumn-harvest-festival-in-paisley-14712
END:VEVENT

END:VCALENDAR
