BEGIN:VCALENDAR
VERSION:2.0
PRODID:-//ChamberMaster//Event Calendar 2.0//EN
METHOD:PUBLISH
X-PUBLISHED-TTL:P3D
REFRESH-INTERVAL:P3D
CALSCALE:GREGORIAN
BEGIN:VEVENT
DTSTART:20180915T140000Z
DTEND:20180915T210000Z
X-MICROSOFT-CDO-ALLDAYEVENT:FALSE
SUMMARY:Batman Day!
DESCRIPTION:Batman Day!  Every other Saturdays. Stop by the branch and check out a Batman book.
X-ALT-DESC;FMTTYPE=text/html:Batman Day!&nbsp\; Every other Saturdays. Stop by the branch and check out a Batman book.
LOCATION:Port Elgin Branch Library
UID:e.2689.17584
SEQUENCE:3
DTSTAMP:20260420T163720Z
URL:https://www.saugeenshoreschamber.ca/events/details/batman-day-09-15-2018-17584
END:VEVENT

END:VCALENDAR
