BEGIN:VCALENDAR
VERSION:2.0
PRODID:-//ChamberMaster//Event Calendar 2.0//EN
METHOD:PUBLISH
X-PUBLISHED-TTL:P3D
REFRESH-INTERVAL:P3D
CALSCALE:GREGORIAN
BEGIN:VEVENT
DTSTART:20180927T130000Z
DTEND:20180927T150000Z
X-MICROSOFT-CDO-ALLDAYEVENT:FALSE
SUMMARY:Beginning Line Dancing
DESCRIPTION:Line Dancing. Weekly on Thursdays\, from September 13 to December 13. Beginner classes 9-10am. Intermediate classes 10-11am. At the Plex\, in Port Elgin. A P.A.R.C. 55+ event. Cost: $2 for members\, $3 for non-members. Membership is $10/year. If a class has to be cancelled Bev Oakley will email or phone you to tell you of the change if contact information is provided.
X-ALT-DESC;FMTTYPE=text/html:Line Dancing. Weekly on Thursdays\, from September 13 to December 13. Beginner classes 9-10am. Intermediate classes 10-11am. At the Plex\, in Port Elgin. A P.A.R.C. 55+ event. Cost: $2 for members\, $3 for non-members. Membership is $10/year. If a class has to be cancelled Bev Oakley will email or phone you to tell you of the change if contact information is provided.&nbsp\;
LOCATION:Rotary Hall at the Plex\, 600 Tomlinson Drive\, Port Elgin
UID:e.2689.12663
SEQUENCE:3
DTSTAMP:20260420T163622Z
URL:https://www.saugeenshoreschamber.ca/events/details/beginning-line-dancing-09-27-2018-12663
END:VEVENT

END:VCALENDAR
