BEGIN:VCALENDAR
VERSION:2.0
PRODID:-//ChamberMaster//Event Calendar 2.0//EN
METHOD:PUBLISH
X-PUBLISHED-TTL:P3D
REFRESH-INTERVAL:P3D
CALSCALE:GREGORIAN
BEGIN:VEVENT
DTSTART:20180808T220000Z
DTEND:20180808T230000Z
X-MICROSOFT-CDO-ALLDAYEVENT:FALSE
SUMMARY:Board Game Night
DESCRIPTION:Challenge your friends to a new board game or game of Chess. All ages are welcome!
X-ALT-DESC;FMTTYPE=text/html:Challenge your friends to a new board game or game of Chess. All ages are welcome!&nbsp\;
LOCATION:Southampton Library
UID:e.2689.17527
SEQUENCE:3
DTSTAMP:20260420T131005Z
URL:https://www.saugeenshoreschamber.ca/events/details/board-game-night-17527
END:VEVENT

END:VCALENDAR
