BEGIN:VCALENDAR
VERSION:2.0
PRODID:-//ChamberMaster//Event Calendar 2.0//EN
METHOD:PUBLISH
X-PUBLISHED-TTL:P3D
REFRESH-INTERVAL:P3D
CALSCALE:GREGORIAN
BEGIN:VEVENT
DTSTART;VALUE=DATE:20180817
DTEND;VALUE=DATE:20180820
TRANSP:TRANSPARENT
X-MICROSOFT-CDO-ALLDAYEVENT:TRUE
SUMMARY:Bruce County Heritage Farm Show
DESCRIPTION:A Fun filled weekend for all members of the family.. Lifestyle program\, Crafts & Flea Market\, Beef BBQ\, Kiddies Tractor Pull\, Teen Obstacle Course\, Antique Vehicles\, Horse Plowing Demos\, working displays including a Steam Shovel\, Sawmill\, Shingle making\, a Tractor Pull\, Model Trains\, live entertainment in the auditorium\, a Tractor Parade\, Corn Roasts\, & much much more....see our website! Located 2.5 km south of Paisley on County Road 3\, gates open at 8am and Adults $10.00 and Children under 12 free when accompanied by an adult. Handicapped Friendly! All Welcome!
X-ALT-DESC;FMTTYPE=text/html:A Fun filled weekend for all members of the family.. Lifestyle program\, Crafts &amp\; Flea Market\, Beef BBQ\, Kiddies Tractor Pull\, Teen Obstacle Course\, Antique Vehicles\, Horse Plowing Demos\, working displays including a Steam Shovel\, Sawmill\, Shingle making\, a Tractor Pull\, Model Trains\, live entertainment in the auditorium\, a Tractor Parade\, Corn Roasts\, &amp\; much much more....see our website! Located 2.5 km south of Paisley on County Road 3\, gates open at 8am and&nbsp\;Adults $10.00 and Children under 12 free when accompanied by an adult. Handicapped Friendly! All Welcome!
LOCATION:2.5 km south of Paisley on County Road 3
UID:e.2689.12994
SEQUENCE:3
DTSTAMP:20260420T131330Z
URL:https://www.saugeenshoreschamber.ca/events/details/bruce-county-heritage-farm-show-12994
END:VEVENT

END:VCALENDAR
