BEGIN:VCALENDAR
VERSION:2.0
PRODID:-//ChamberMaster//Event Calendar 2.0//EN
METHOD:PUBLISH
X-PUBLISHED-TTL:P3D
REFRESH-INTERVAL:P3D
CALSCALE:GREGORIAN
BEGIN:VEVENT
DTSTART:20210318T210000Z
DTEND:20210318T223000Z
X-MICROSOFT-CDO-ALLDAYEVENT:FALSE
SUMMARY:Business After Hours a Virtual Networking Event
DESCRIPTION:Join your fellow Saugeen Shores Chamber of Commerce members for networking and conversation from the comfort of your home!\n\n															 \n															Thursday March 18th from 5 pm - 6pm\n\n															Location: Zoom Virtual Event.  Link Below!\n															\n\n															BAH will be co-hosted by Saugeen Memorial Hospital Foundation and RBC Meeting Place.\n\n															\n\n															As with every BAH\, we will be connecting and catching up with one another. We hope you will participate\, it's vital to keep our network #SaugeenShoresStrong.\n\n															\n\n															This will be our first virtual Business After Hours\, we look forward to resuming in person BAHs when it is safe to do so. BAHs are a benefit of being a Chamber member. We do welcome non member guests to join us at a few BAHs before membership\, or a fee for attending\, is required.
X-ALT-DESC;FMTTYPE=text/html:<blockquote style="font-style: normal\; caret-color: rgb(34\, 34\, 34)\; color: rgb(34\, 34\, 34)\; font-family: Arial\, Helvetica\, sans-serif\;" type="cite">\n<center style="font-family: Helvetica\; font-size: 12px\;">\n<table align="center" border="0" cellpadding="0" cellspacing="0" height="100%" id="m_-7931702395964867425bodyTable" style="border-collapse: collapse\; height: 1796px\; margin: 0px\; padding: 0px\; width: 711px\;" width="100%">\n	<tbody>\n		<tr>\n			<td align="center" id="m_-7931702395964867425bodyCell" style="font-family: Roboto\, RobotoDraft\, Helvetica\, Arial\, sans-serif\; margin: 0px\; height: 1796px\; padding: 0px\; width: 711px\;" valign="top">\n			<table border="0" cellpadding="0" cellspacing="0" style="border-collapse: collapse\;" width="100%">\n				<tbody>\n					<tr>\n						<td align="center" id="m_-7931702395964867425templateBody" style="margin: 0px\; background-image: none\; background-size: cover\; border-top-width: 0px\; border-bottom-width: 0px\; padding-top: 27px\; padding-bottom: 54px\; background-position: center center\; background-repeat: no-repeat no-repeat\;" valign="top">\n						<table align="center" border="0" cellpadding="0" cellspacing="0" style="border-collapse: collapse\; max-width: 600px !important\;" width="100%">\n							<tbody>\n								<tr>\n									<td style="margin: 0px\; background-image: none\; background-size: cover\; border-top-width: 0px\; border-bottom-width: 0px\; padding-top: 0px\; padding-bottom: 0px\; background-position: center center\; background-repeat: no-repeat no-repeat\;" valign="top">\n									<table border="0" cellpadding="0" cellspacing="0" style="border-collapse: collapse\; min-width: 100%\;" width="100%">\n										<tbody>\n											<tr>\n												<td style="margin: 0px\; padding-top: 9px\;" valign="top">\n												<table align="left" border="0" cellpadding="0" cellspacing="0" style="border-collapse: collapse\; max-width: 100%\; min-width: 100%\;" width="100%">\n													<tbody>\n														<tr>\n															<td style="font-family: Helvetica\; margin: 0px\; word-break: break-word\; color: rgb(5\, 5\, 5)\; font-size: 16px\; line-height: 24px\; padding: 0px 18px 9px\;" valign="top">Join your fellow Saugeen Shores Chamber of Commerce members for networking and conversation from the comfort of your home!<br />\n															&nbsp\;\n															<div style="text-align: center\;"><strong>Thursday March 18th from 5 pm - 6pm<br />\n															Location: Zoom Virtual Event.&nbsp\; Link Below!</strong></div>\n															<br />\n															BAH will be co-hosted by Saugeen Memorial Hospital Foundation and RBC Meeting Place.<br />\n															<br />\n															As with every BAH\, we will be connecting and catching up with one another.&nbsp\;We hope you will participate\, it&#39\;s vital to keep our network #SaugeenShoresStrong.<br />\n															<br />\n															This will be our first virtual Business After Hours\, we look forward to resuming in person BAHs when it is safe to do so.&nbsp\;BAHs are a benefit of being a Chamber member. We do welcome non member guests to join us at a few BAHs before membership\, or a fee for attending\, is required.&nbsp\;</td>\n														</tr>\n													</tbody>\n												</table>\n												</td>\n											</tr>\n										</tbody>\n									</table>\n\n									<table border="0" cellpadding="0" cellspacing="0" style="border-collapse: collapse\; min-width: 100%\; table-layout: fixed !important\;" width="100%">\n										<tbody>\n											<tr>\n												<td style="margin: 0px\; min-width: 100%\; padding: 18px\;">\n												<table border="0" cellpadding="0" cellspacing="0" style="border-collapse: collapse\; min-width: 100%\; border-top-width: 2px\; border-top-style: solid\; border-top-color: rgb(28\, 200\, 235)\;" width="100%">\n													<tbody>\n														<tr>\n															<td style="margin: 0px\;">&nbsp\;</td>\n														</tr>\n													</tbody>\n												</table>\n												</td>\n											</tr>\n										</tbody>\n									</table>\n									</td>\n								</tr>\n							</tbody>\n						</table>\n						</td>\n					</tr>\n				</tbody>\n			</table>\n			</td>\n		</tr>\n	</tbody>\n</table>\n</center>\n</blockquote>\n
LOCATION:Zoom Virtual Event\, email Christine for the link
UID:e.2689.24123
SEQUENCE:3
DTSTAMP:20260419T184657Z
URL:https://www.saugeenshoreschamber.ca/events/details/business-after-hours-a-virtual-networking-event-24123
END:VEVENT

END:VCALENDAR
