BEGIN:VCALENDAR
VERSION:2.0
PRODID:-//ChamberMaster//Event Calendar 2.0//EN
METHOD:PUBLISH
X-PUBLISHED-TTL:P3D
REFRESH-INTERVAL:P3D
CALSCALE:GREGORIAN
BEGIN:VEVENT
DTSTART:20181103T140000Z
DTEND:20181223T230000Z
X-MICROSOFT-CDO-ALLDAYEVENT:FALSE
SUMMARY:By Our Hands - In Paisley
DESCRIPTION:By Our Hands - In Paisley. Ongoing from November 3 to December 23. This is truly a one-of-a-kind show at great prices for the high quality items featured. You do not have to go to Toronto for this kind of uniqueness and quality from local artisans. You are bound to find a special gift for anyone in the family. Also featured\, but limited are items specific to Christmas. This show is a perennial favourite! Doors are open daily from 10:00 am to 6:00 pm. For more information go to www.naturesmillworks.com.
X-ALT-DESC;FMTTYPE=text/html:<strong>By Our Hands&nbsp\;</strong>- In Paisley. Ongoing from November 3 to December 23. This is truly a one-of-a-kind show at great prices for the high quality items featured. You do not have to go to Toronto for this kind of uniqueness and quality from local artisans. You are bound to find a special gift for anyone in the family. Also featured\, but limited are items specific to Christmas. This show is a perennial favourite! Doors are open daily from 10:00 am to 6:00 pm. For more information go to www.naturesmillworks.com.
LOCATION:Nature's Millworks\, 4575 Bruce Rd. 1\, Paisley\, ON
UID:e.2689.14713
SEQUENCE:3
DTSTAMP:20260420T194836Z
URL:https://www.saugeenshoreschamber.ca/events/details/by-our-hands-in-paisley-14713
END:VEVENT

END:VCALENDAR
