BEGIN:VCALENDAR
VERSION:2.0
PRODID:-//ChamberMaster//Event Calendar 2.0//EN
METHOD:PUBLISH
X-PUBLISHED-TTL:P3D
REFRESH-INTERVAL:P3D
CALSCALE:GREGORIAN
BEGIN:VEVENT
DTSTART:20180816T150000Z
DTEND:20180816T160000Z
X-MICROSOFT-CDO-ALLDAYEVENT:FALSE
SUMMARY:Campfire Songs and Instrument Making
DESCRIPTION:Sing some songs around the "campfire" and then make your own instrument
X-ALT-DESC;FMTTYPE=text/html:Sing some songs around the &quot\;campfire&quot\; and then make your own instrument
LOCATION:Southampton Library
UID:e.2689.17531
SEQUENCE:3
DTSTAMP:20260420T131237Z
URL:https://www.saugeenshoreschamber.ca/events/details/campfire-songs-and-instrument-making-17531
END:VEVENT

END:VCALENDAR
