BEGIN:VCALENDAR
VERSION:2.0
PRODID:-//ChamberMaster//Event Calendar 2.0//EN
METHOD:PUBLISH
X-PUBLISHED-TTL:P3D
REFRESH-INTERVAL:P3D
CALSCALE:GREGORIAN
BEGIN:VEVENT
DTSTART:20170708T160000Z
DTEND:20170709T000000Z
X-MICROSOFT-CDO-ALLDAYEVENT:FALSE
SUMMARY:Canada 150th Ribfest BBQ
DESCRIPTION:Canada 150th Beach Bash & Port Elgin Rotary Ribfest. Come out to celebrate Canada's 150th with Port Elgin Rotary Ribfest. Dinner includes 1lb of Ribs\, beans\, coleslaw\, potato salad & a roll. Early Bird Tickets $20/person til July 2 and tickets after July are $25/person available online by clicking "Register Now" and ticket pick up would be at the Saugeen Shores Chamber of Commerce.
X-ALT-DESC;FMTTYPE=text/html:Canada 150th Beach Bash &amp\; Port Elgin Rotary Ribfest. Come out to celebrate Canada&#39\;s 150th with Port Elgin Rotary Ribfest. Dinner includes 1lb of Ribs\, beans\, coleslaw\, potato salad &amp\; a roll.&nbsp\;Early Bird Tickets $20/person til July 2 and tickets after July are $25/person available online by clicking &quot\;Register Now&quot\; and ticket pick up would be at the Saugeen Shores Chamber of Commerce.&nbsp\;
LOCATION:Port Elgin Main Beach under the 150th Celebration Tent
UID:e.2689.10022
SEQUENCE:3
DTSTAMP:20260419T151756Z
URL:https://www.saugeenshoreschamber.ca/events/details/canada-150th-ribfest-bbq-10022
END:VEVENT

END:VCALENDAR
