BEGIN:VCALENDAR
VERSION:2.0
PRODID:-//ChamberMaster//Event Calendar 2.0//EN
METHOD:PUBLISH
X-PUBLISHED-TTL:P3D
REFRESH-INTERVAL:P3D
CALSCALE:GREGORIAN
BEGIN:VEVENT
DTSTART;VALUE=DATE:20170915
DTEND;VALUE=DATE:20170918
TRANSP:TRANSPARENT
X-MICROSOFT-CDO-ALLDAYEVENT:TRUE
SUMMARY:Canadian Big Band Celebration
DESCRIPTION:The Canadian Big Band Celebration is a not-for-profit organization presenting an annual celebration of band music of the 1920-'80s. Four events are offered including Friday Night Jazz\, two Saturday Big Events\, a Sunday Brunch\, and this year a Sunday afternoon "Canada 150 Concert Legacy Project" featuring Chantry Singers Choir and Canadian Big Band
X-ALT-DESC;FMTTYPE=text/html:<span class="m_-2479493757751611253s7" style="color: rgb(34\, 34\, 34)\; font-family: arial\, sans-serif\; font-size: 12.8px\; line-height: 13.2px\; font-style: italic\;"><span class="m_-2479493757751611253bumpedFont15" style="line-height: 19.8px\;">The Canadian Big Band Celebration is a not-for-profit organization&nbsp\;</span></span><span class="m_-2479493757751611253s7" style="color: rgb(34\, 34\, 34)\; font-family: arial\, sans-serif\; font-size: 12.8px\; line-height: 13.2px\; font-style: italic\;"><span class="m_-2479493757751611253bumpedFont15" style="line-height: 19.8px\;">presenting an annual celebration of band music of the 1920</span></span><span class="m_-2479493757751611253s7" style="color: rgb(34\, 34\, 34)\; font-family: arial\, sans-serif\; font-size: 12.8px\; line-height: 13.2px\; font-style: italic\;"><span class="m_-2479493757751611253bumpedFont15" style="line-height: 19.8px\;">-</span></span><span class="m_-2479493757751611253s7" style="color: rgb(34\, 34\, 34)\; font-family: arial\, sans-serif\; font-size: 12.8px\; line-height: 13.2px\; font-style: italic\;"><span class="m_-2479493757751611253bumpedFont15" style="line-height: 19.8px\;">&lsquo\;</span></span><span class="m_-2479493757751611253s7" style="color: rgb(34\, 34\, 34)\; font-family: arial\, sans-serif\; font-size: 12.8px\; line-height: 13.2px\; font-style: italic\;"><span class="m_-2479493757751611253bumpedFont15" style="line-height: 19.8px\;">80s. Four events are offered including&nbsp\;<span class="aBn" data-term="goog_1141415930" style="border-bottom: 1px dashed rgb(204\, 204\, 204)\; position: relative\; top: -2px\; z-index: 0\;" tabindex="0"><span class="aQJ" style="position: relative\; top: 2px\; z-index: -1\;">Friday</span></span>&nbsp\;Night Jazz\, two&nbsp\;<span class="aBn" data-term="goog_1141415931" style="border-bottom: 1px dashed rgb(204\, 204\, 204)\; position: relative\; top: -2px\; z-index: 0\;" tabindex="0"><span class="aQJ" style="position: relative\; top: 2px\; z-index: -1\;">Saturday</span></span>&nbsp\;Big Events\, a&nbsp\;<span class="aBn" data-term="goog_1141415932" style="border-bottom: 1px dashed rgb(204\, 204\, 204)\; position: relative\; top: -2px\; z-index: 0\;" tabindex="0"><span class="aQJ" style="position: relative\; top: 2px\; z-index: -1\;">Sunday</span></span>&nbsp\;Brunch\, and this year a&nbsp\;<span class="aBn" data-term="goog_1141415933" style="border-bottom: 1px dashed rgb(204\, 204\, 204)\; position: relative\; top: -2px\; z-index: 0\;" tabindex="0"><span class="aQJ" style="position: relative\; top: 2px\; z-index: -1\;">Sunday</span></span>&nbsp\;afternoon&nbsp\;</span></span><span class="m_-2479493757751611253s7" style="color: rgb(34\, 34\, 34)\; font-family: arial\, sans-serif\; font-size: 12.8px\; line-height: 13.2px\; font-style: italic\;"><span class="m_-2479493757751611253bumpedFont15" style="line-height: 19.8px\;">&ldquo\;</span></span><span class="m_-2479493757751611253s7" style="color: rgb(34\, 34\, 34)\; font-family: arial\, sans-serif\; font-size: 12.8px\; line-height: 13.2px\; font-style: italic\;"><span class="m_-2479493757751611253bumpedFont15" style="line-height: 19.8px\;">Canada 150 Concert Legacy Project</span></span><span class="m_-2479493757751611253s7" style="color: rgb(34\, 34\, 34)\; font-family: arial\, sans-serif\; font-size: 12.8px\; line-height: 13.2px\; font-style: italic\;"><span class="m_-2479493757751611253bumpedFont15" style="line-height: 19.8px\;">&rdquo\;&nbsp\;</span></span><span class="m_-2479493757751611253s7" style="color: rgb(34\, 34\, 34)\; font-family: arial\, sans-serif\; font-size: 12.8px\; line-height: 13.2px\; font-style: italic\;"><span class="m_-2479493757751611253bumpedFont15" style="line-height: 19.8px\;">featuring Chantry Singers C</span></span><span class="m_-2479493757751611253s7" style="color: rgb(34\, 34\, 34)\; font-family: arial\, sans-serif\; font-size: 12.8px\; line-height: 13.2px\; font-style: italic\;"><span class="m_-2479493757751611253bumpedFont15" style="line-height: 19.8px\;">hoir and Canadian Big Band</span></span>
LOCATION:Friday night at 8 venues around Saugeen Shores\, Saturday & Sunday at Unifor (formerly the C.A.W. Family Education Centre) off Bruce County Rd 25
UID:e.2689.5528
SEQUENCE:3
DTSTAMP:20260419T163700Z
URL:https://www.saugeenshoreschamber.ca/events/details/canadian-big-band-celebration-09-15-2017-5528
END:VEVENT

END:VCALENDAR
