BEGIN:VCALENDAR
VERSION:2.0
PRODID:-//ChamberMaster//Event Calendar 2.0//EN
METHOD:PUBLISH
X-PUBLISHED-TTL:P3D
REFRESH-INTERVAL:P3D
CALSCALE:GREGORIAN
BEGIN:VEVENT
DTSTART;VALUE=DATE:20180907
DTEND;VALUE=DATE:20180910
TRANSP:TRANSPARENT
X-MICROSOFT-CDO-ALLDAYEVENT:TRUE
SUMMARY:Canadian Big Band Celebration
DESCRIPTION:The Canadian Big Band Celebration is a not-for-profit arts group celebrating the 1920-'80s music and dance pavilion heritage we share along the Lake Huron Shoreline. Four events are offered including Friday Night Jazz\, two Saturday Big Events\, and a Sunday Jazz Brunch.
X-ALT-DESC;FMTTYPE=text/html:The Canadian Big Band Celebration is a not-for-profit arts group celebrating the 1920-&#39\;80s music and dance pavilion heritage we share along the Lake Huron Shoreline. Four events are offered including Friday Night Jazz\, two Saturday Big Events\, and a Sunday Jazz Brunch.
LOCATION:Friday night at many venues around Saugeen Shores\, Saturday & Sunday at UNIFOR (formerly the C.A.W. Family Education Centre) off Bruce County Rd 25
UID:e.2689.14736
SEQUENCE:3
DTSTAMP:20260420T163828Z
URL:https://www.saugeenshoreschamber.ca/events/details/canadian-big-band-celebration-14736
END:VEVENT

END:VCALENDAR
