BEGIN:VCALENDAR
VERSION:2.0
PRODID:-//ChamberMaster//Event Calendar 2.0//EN
METHOD:PUBLISH
X-PUBLISHED-TTL:P3D
REFRESH-INTERVAL:P3D
CALSCALE:GREGORIAN
BEGIN:VEVENT
DTSTART:20181010T230000Z
DTEND:20181011T010000Z
X-MICROSOFT-CDO-ALLDAYEVENT:FALSE
SUMMARY:CFUW Southport Presents - DAREarts Igniting Real Change
DESCRIPTION:DFUW Southport Presents - DAREarts Igniting Real Change. DAREarts empowers at risk kids with the life skills to become leaders. Since 1996 this program has inspired over 200\,000 children and youth across Canada. Glenn Marais\, Juno nominated song writer \, musician and team member for DAREarts shares his stories about the program and his students.
X-ALT-DESC;FMTTYPE=text/html:DFUW Southport Presents - DAREarts Igniting Real Change. DAREarts empowers at risk kids with the life skills to become leaders. Since 1996 this program has inspired over 200\,000 children and youth across Canada. Glenn Marais\, Juno nominated song writer \, musician and team member for DAREarts shares his stories about the program and his students.
LOCATION:Bruce County Museum and Cultural Centre
UID:e.2689.17626
SEQUENCE:3
DTSTAMP:20260420T163956Z
URL:https://www.saugeenshoreschamber.ca/events/details/cfuw-southport-presents-darearts-igniting-real-change-17626
END:VEVENT

END:VCALENDAR
