BEGIN:VCALENDAR
VERSION:2.0
PRODID:-//ChamberMaster//Event Calendar 2.0//EN
METHOD:PUBLISH
X-PUBLISHED-TTL:P3D
REFRESH-INTERVAL:P3D
CALSCALE:GREGORIAN
BEGIN:VEVENT
DTSTART:20180912T230000Z
DTEND:20180913T010000Z
X-MICROSOFT-CDO-ALLDAYEVENT:FALSE
SUMMARY:CFUW Welcome Back Wine and Cheese
DESCRIPTION:The Canadian Federation of University Women Southport invites all women of Saugeen Shores (degree not necessary) to join us for a Wine and Cheese Welcome Back event and learn about CFUW. Are you looking for a Book Club or a Gourmet Group? Are you passionate about women's issues? Do you like to hear great speakers on a variety of topics? Then we are the club for you. Check us out!
X-ALT-DESC;FMTTYPE=text/html:The Canadian Federation of University Women Southport invites all women of Saugeen Shores (degree not necessary) to join us for a Wine and Cheese Welcome Back event and learn about CFUW. Are you looking for a Book Club or a Gourmet Group? Are you passionate about women&#39\;s issues? Do you like to hear great speakers on a variety of topics? Then we are the club for you. Check us out!
LOCATION:Bruce County Museum and Cultural Centre
UID:e.2689.17586
SEQUENCE:3
DTSTAMP:20260420T145822Z
URL:https://www.saugeenshoreschamber.ca/events/details/cfuw-welcome-back-wine-and-cheese-17586
END:VEVENT

END:VCALENDAR
