BEGIN:VCALENDAR
VERSION:2.0
PRODID:-//ChamberMaster//Event Calendar 2.0//EN
METHOD:PUBLISH
X-PUBLISHED-TTL:P3D
REFRESH-INTERVAL:P3D
CALSCALE:GREGORIAN
BEGIN:VEVENT
DTSTART;VALUE=DATE:20181116
DTEND;VALUE=DATE:20181118
TRANSP:TRANSPARENT
X-MICROSOFT-CDO-ALLDAYEVENT:TRUE
SUMMARY:Cham-bette 10th Annual Christmas Home Tour
DESCRIPTION:Cham-bette 10th Annual Christmas Home Tour. Six homes decorated in Christmas Splendor\, in Saugeen Shores. Friday\, Nov 16 from 6pm to 9:30pm\, and Saturday\, Nov 17 from 11am to 4pm. Tickets $20. Available at Accents\, Port Emporium and Cathy's Flowers in Port or Bayberry's In Southampton St Paul\;'s Anglican church the days of the tours. Proceeds to Hospital Foundation and Caitlyn Cobean Community Crusaders
X-ALT-DESC;FMTTYPE=text/html:Cham-bette 10th Annual Christmas Home Tour. Six homes decorated in Christmas Splendor\, in Saugeen Shores. Friday\, Nov 16 from 6pm to 9:30pm\, and Saturday\, Nov 17 from 11am to 4pm. Tickets $20. Available at Accents\, Port Emporium and Cathy&#39\;s Flowers in Port or Bayberry&#39\;s In Southampton St Paul\;&#39\;s Anglican church the days of the tours. Proceeds to Hospital Foundation and Caitlyn Cobean Community Crusaders
LOCATION:Saugeen Shores
UID:e.2689.17763
SEQUENCE:3
DTSTAMP:20260420T182803Z
URL:https://www.saugeenshoreschamber.ca/events/details/cham-bette-10th-annual-christmas-home-tour-17763
END:VEVENT

END:VCALENDAR
