BEGIN:VCALENDAR
VERSION:2.0
PRODID:-//ChamberMaster//Event Calendar 2.0//EN
METHOD:PUBLISH
X-PUBLISHED-TTL:P3D
REFRESH-INTERVAL:P3D
CALSCALE:GREGORIAN
BEGIN:VEVENT
DTSTART:20181209T200000Z
DTEND:20181209T213000Z
X-MICROSOFT-CDO-ALLDAYEVENT:FALSE
SUMMARY:Christmas Brass and All that Jazz
DESCRIPTION:Christmas Brass and All that Jazz. Southampton Concert Band's annual Christmas Concert aon December 9th\, 3pm at the Port Elgin United Church
X-ALT-DESC;FMTTYPE=text/html:Christmas Brass and All that Jazz. Southampton Concert Band&#39\;s annual Christmas Concert aon December 9th\, 3pm at the Port Elgin United Church
LOCATION:Port Elgin United Church\, 840 Bruce Street\, Port Elgin
UID:e.2689.17795
SEQUENCE:3
DTSTAMP:20260421T115939Z
URL:https://www.saugeenshoreschamber.ca/events/details/christmas-brass-and-all-that-jazz-17795
END:VEVENT

END:VCALENDAR
