BEGIN:VCALENDAR
VERSION:2.0
PRODID:-//ChamberMaster//Event Calendar 2.0//EN
METHOD:PUBLISH
X-PUBLISHED-TTL:P3D
REFRESH-INTERVAL:P3D
CALSCALE:GREGORIAN
BEGIN:VEVENT
DTSTART:20181225T000000Z
DTEND:20181225T010000Z
X-MICROSOFT-CDO-ALLDAYEVENT:FALSE
SUMMARY:Christmas Eve Family Service
DESCRIPTION:Christmas Eve Family Service. All are welcome to join for worship\, reflection\, and fun as we celebrate the birth of our Lord Jesus Christ! Childcare is not provided\; however our Nursery facilities are open for parental supervision of babies and toddlers.
X-ALT-DESC;FMTTYPE=text/html:Christmas Eve Family Service. All are welcome to join for worship\, reflection\, and fun as we celebrate the birth of our Lord Jesus Christ! Childcare is not provided\; however our Nursery facilities are open for parental supervision of babies and toddlers.
LOCATION:Port Elgin Missionary Church\, 650 Green Street\, Port Elgin
UID:e.2689.13112
SEQUENCE:3
DTSTAMP:20260421T120030Z
URL:https://www.saugeenshoreschamber.ca/events/details/christmas-eve-family-service-13112
END:VEVENT

END:VCALENDAR
