BEGIN:VCALENDAR
VERSION:2.0
PRODID:-//ChamberMaster//Event Calendar 2.0//EN
METHOD:PUBLISH
X-PUBLISHED-TTL:P3D
REFRESH-INTERVAL:P3D
CALSCALE:GREGORIAN
BEGIN:VEVENT
DTSTART;VALUE=DATE:20181122
DTEND;VALUE=DATE:20181225
TRANSP:TRANSPARENT
X-MICROSOFT-CDO-ALLDAYEVENT:TRUE
SUMMARY:Christmas Pop Up in the Gallery
DESCRIPTION:Christmas Pop Up in the Gallery. The Southampton Art Centre's annual Christmas Pop-Up in the Gallery shows returns. The Sale is ongoing from November 22nd and runs until December 24th. There will be a variety of fine arts made by local and regional artists to choose from\, as well as extended hours that will make the Gallery the perfect place to shop. Find you unique gift here this year !
X-ALT-DESC;FMTTYPE=text/html:<strong>Christmas Pop Up in the Gallery.&nbsp\;</strong>The Southampton&nbsp\;Art Centre&#39\;s annual Christmas&nbsp\;Pop-Up in the Gallery shows returns. The Sale is ongoing from November 22nd&nbsp\;and runs until December 24th. There will be a variety of fine arts made by local and regional artists to choose from\, as well as extended hours that will make the Gallery the perfect place to shop. Find you unique gift here this year !
LOCATION:Southampton Art School and Gallery 201 High Street\, Southampton
UID:e.2689.13256
SEQUENCE:3
DTSTAMP:20260420T182656Z
URL:https://www.saugeenshoreschamber.ca/events/details/christmas-pop-up-in-the-gallery-13256
END:VEVENT

END:VCALENDAR
