BEGIN:VCALENDAR
VERSION:2.0
PRODID:-//ChamberMaster//Event Calendar 2.0//EN
METHOD:PUBLISH
X-PUBLISHED-TTL:P3D
REFRESH-INTERVAL:P3D
CALSCALE:GREGORIAN
BEGIN:VEVENT
DTSTART:20200513T173000Z
DTEND:20200513T183000Z
X-MICROSOFT-CDO-ALLDAYEVENT:FALSE
SUMMARY:Coffee & Conversation
DESCRIPTION:Coffee & Conversation. Organized by the Saugeen Shores Chamber of Commerce. Orients new Chamber members into the Chamber network and will address the most commonly asked question.... I'm a Member\, now what? For new members\, it's a great way to meet other newbies in a casual environment while learning more about Chamber membership and how to maximize your investment. Seasoned members are encouraged to attend too. There's always something new to learn! Coffee and light refreshments are free\, courtesy of our sponsor!
X-ALT-DESC;FMTTYPE=text/html:Coffee &amp\; Conversation. Organized by the Saugeen Shores Chamber of Commerce. Orients new Chamber members into the Chamber network and will address the most commonly asked question.... I&#39\;m a Member\, now what? For new members\, it&#39\;s a great way to meet other newbies in a casual environment while learning more about Chamber membership and how to maximize your investment. Seasoned members are encouraged to attend too. There&#39\;s always something new to learn! Coffee and light refreshments are free\, courtesy of our sponsor!
LOCATION:TBD.
UID:e.2689.23589
SEQUENCE:3
DTSTAMP:20260421T125703Z
URL:https://www.saugeenshoreschamber.ca/events/details/coffee-conversation-23589
END:VEVENT

END:VCALENDAR
