BEGIN:VCALENDAR
VERSION:2.0
PRODID:-//ChamberMaster//Event Calendar 2.0//EN
METHOD:PUBLISH
X-PUBLISHED-TTL:P3D
REFRESH-INTERVAL:P3D
CALSCALE:GREGORIAN
BEGIN:VEVENT
DTSTART:20181002T170000Z
DTEND:20181002T180000Z
X-MICROSOFT-CDO-ALLDAYEVENT:FALSE
SUMMARY:Conversational French
DESCRIPTION:Join us for some fun at the Southampton Library and learn some new phrases! Weekly on Tuesdays\, from September 4 to December 18. Geared to those with some experience.
X-ALT-DESC;FMTTYPE=text/html:Join us for some fun at the Southampton Library and learn some new phrases! Weekly on Tuesdays\, from September 4 to December 18. Geared to those with some experience.
LOCATION:Southampton Library
UID:e.2689.17605
SEQUENCE:3
DTSTAMP:20260420T163759Z
URL:https://www.saugeenshoreschamber.ca/events/details/conversational-french-10-02-2018-17605
END:VEVENT

END:VCALENDAR
