BEGIN:VCALENDAR
VERSION:2.0
PRODID:-//ChamberMaster//Event Calendar 2.0//EN
METHOD:PUBLISH
X-PUBLISHED-TTL:P3D
REFRESH-INTERVAL:P3D
CALSCALE:GREGORIAN
BEGIN:VEVENT
DTSTART:20180912T153000Z
DTEND:20180912T163000Z
X-MICROSOFT-CDO-ALLDAYEVENT:FALSE
SUMMARY:Conversational Spanish
DESCRIPTION:Conversational Spanish.  Weekly\, on Wednesday from September 5 to December 19. At 11:30am at Southampton Library. Join us for some fun and learn some new phrases! Geared to those with some experience.
X-ALT-DESC;FMTTYPE=text/html:Conversational Spanish.&nbsp\; Weekly\, on Wednesday from September 5 to December 19. At 11:30am at Southampton Library. Join us for some fun and learn some new phrases! Geared to those with some experience.
LOCATION:Southampton Library
UID:e.2689.17682
SEQUENCE:3
DTSTAMP:20260420T145656Z
URL:https://www.saugeenshoreschamber.ca/events/details/conversational-spanish-09-12-2018-17682
END:VEVENT

END:VCALENDAR
