BEGIN:VCALENDAR
VERSION:2.0
PRODID:-//ChamberMaster//Event Calendar 2.0//EN
METHOD:PUBLISH
X-PUBLISHED-TTL:P3D
REFRESH-INTERVAL:P3D
CALSCALE:GREGORIAN
BEGIN:VEVENT
DTSTART:20210403T140000Z
DTEND:20210403T160000Z
X-MICROSOFT-CDO-ALLDAYEVENT:FALSE
SUMMARY:Easter Eggs
DESCRIPTION:Easter Eggs April 3 10 AM - 12 PM. Back by popular demand\, it's an EGG-citing morning at the Museum! Join us for Easter egg hunting in the exhibits\, egg decorating\, activities\, and crafts. This program is designed for ages 4-8. Pre-payment and pre-registration required.
X-ALT-DESC;FMTTYPE=text/html:Easter Eggs April 3 10 AM - 12 PM. Back by popular demand\, it&rsquo\;s an EGG-citing morning at the Museum! Join us for Easter egg hunting in the exhibits\, egg decorating\, activities\, and crafts. This program is designed for ages 4-8. Pre-payment and pre-registration required.
LOCATION:Bruce County Museum & Cultural Centre 33 Victoria St.\, N\, Southampton\, ON N0H 2L0
UID:e.2689.24109
SEQUENCE:3
DTSTAMP:20260419T165742Z
URL:https://www.saugeenshoreschamber.ca/events/details/easter-eggs-24109
END:VEVENT

END:VCALENDAR
