BEGIN:VCALENDAR
VERSION:2.0
PRODID:-//ChamberMaster//Event Calendar 2.0//EN
METHOD:PUBLISH
X-PUBLISHED-TTL:P3D
REFRESH-INTERVAL:P3D
CALSCALE:GREGORIAN
BEGIN:VEVENT
DTSTART:20180817T150000Z
DTEND:20180817T190000Z
X-MICROSOFT-CDO-ALLDAYEVENT:FALSE
SUMMARY:Escape the Titanic
DESCRIPTION:TEEN Escape Room Challenge at the Library! "Escape the The Titanic": The Titanic is sinking Jack is missing and Rose is distraught! Solve the puzzles to find Jack before everyone runs out of time! This escape room challenge for teens takes 40 minutes. Please contact the branch to register. One person/group must register for a time. Works best with groups of 4-6 friends. This event is free.
X-ALT-DESC;FMTTYPE=text/html:TEEN Escape Room Challenge at the Library! &quot\;Escape the The Titanic&quot\;: The Titanic is sinking&hellip\;Jack is missing and Rose is distraught! Solve the puzzles to find Jack before everyone runs out of time! This escape room challenge for teens takes 40 minutes. Please contact the branch to register. One person/group must register for a time. Works best with groups of 4-6 friends. This event is free.
LOCATION:Port Elgin Branch Library
UID:e.2689.17542
SEQUENCE:3
DTSTAMP:20260420T131522Z
URL:https://www.saugeenshoreschamber.ca/events/details/escape-the-titanic-08-17-2018-17542
END:VEVENT

END:VCALENDAR
