BEGIN:VCALENDAR
VERSION:2.0
PRODID:-//ChamberMaster//Event Calendar 2.0//EN
METHOD:PUBLISH
X-PUBLISHED-TTL:P3D
REFRESH-INTERVAL:P3D
CALSCALE:GREGORIAN
BEGIN:VEVENT
DTSTART:20181231T150000Z
DTEND:20181231T163000Z
X-MICROSOFT-CDO-ALLDAYEVENT:FALSE
SUMMARY:Family $2 Swim\, New Years Eve!
DESCRIPTION:Family $2 Swim\, New Year's Eve! Bring your Family and enjoy a swim together for only $2. Pool admission policies apply.
X-ALT-DESC;FMTTYPE=text/html:Family $2 Swim\, New Year&#39\;s Eve! Bring your Family and enjoy a swim together for only $2. Pool admission policies apply.
LOCATION:Centennial Pool\, 649 Mill Creek road\, Port Elgin
UID:e.2689.17814
SEQUENCE:3
DTSTAMP:20260421T120203Z
URL:https://www.saugeenshoreschamber.ca/events/details/family-2-swim-new-years-eve-17814
END:VEVENT

END:VCALENDAR
