BEGIN:VCALENDAR
VERSION:2.0
PRODID:-//ChamberMaster//Event Calendar 2.0//EN
METHOD:PUBLISH
X-PUBLISHED-TTL:P3D
REFRESH-INTERVAL:P3D
CALSCALE:GREGORIAN
BEGIN:VEVENT
DTSTART:20181214T230000Z
DTEND:20181215T003000Z
X-MICROSOFT-CDO-ALLDAYEVENT:FALSE
SUMMARY:Festive Friday Fun!
DESCRIPTION:Festive Friday Fun at the Bruce County Museum & Cultural Centre. Need to get some holiday shopping done while the stores are open late? Drop the kids off at the Museum for some boredom-busting winter-inspired creations to take home. This program is designed for children aged 5-10. Preregistration and prepayment required as space is limited for this program.
X-ALT-DESC;FMTTYPE=text/html:Festive Friday Fun at the Bruce County Museum &amp\; Cultural Centre. Need to get some holiday shopping done while the stores are open late? Drop the kids off at the Museum for some boredom-busting winter-inspired creations to take home. This program is designed for children aged 5-10. Preregistration and prepayment required as space is limited for this program.
LOCATION:Bruce County Museum & Cultural Centre 33 Victoria Street Southampton\, ON
UID:e.2689.17791
SEQUENCE:3
DTSTAMP:20260421T115509Z
URL:https://www.saugeenshoreschamber.ca/events/details/festive-friday-fun-17791
END:VEVENT

END:VCALENDAR
