BEGIN:VCALENDAR
VERSION:2.0
PRODID:-//ChamberMaster//Event Calendar 2.0//EN
METHOD:PUBLISH
X-PUBLISHED-TTL:P3D
REFRESH-INTERVAL:P3D
CALSCALE:GREGORIAN
BEGIN:VEVENT
DTSTART:20181224T140000Z
DTEND:20181224T170000Z
X-MICROSOFT-CDO-ALLDAYEVENT:FALSE
SUMMARY:Free Christmas Eve Public Skate (Coliseum)
DESCRIPTION:Free Christmas Eve Public Skate (Coliseum). Skate for free today! Thank you to Tim Hortons\, our generous community sponsor.
X-ALT-DESC;FMTTYPE=text/html:Free Christmas Eve Public Skate (Coliseum). Skate for free today! Thank you to Tim Hortons\, our generous community sponsor.
LOCATION:The Coliseum\, 26 Albert Street South\, Southampton
UID:e.2689.17806
SEQUENCE:3
DTSTAMP:20260421T120051Z
URL:https://www.saugeenshoreschamber.ca/events/details/free-christmas-eve-public-skate-coliseum-17806
END:VEVENT

END:VCALENDAR
