BEGIN:VCALENDAR
VERSION:2.0
PRODID:-//ChamberMaster//Event Calendar 2.0//EN
METHOD:PUBLISH
X-PUBLISHED-TTL:P3D
REFRESH-INTERVAL:P3D
CALSCALE:GREGORIAN
BEGIN:VEVENT
DTSTART:20181223T180000Z
DTEND:20181223T193000Z
X-MICROSOFT-CDO-ALLDAYEVENT:FALSE
SUMMARY:Free Fun Swim
DESCRIPTION:Free Fun Swim. Swim for free today! Thank you to Wardrop Pharmasave\, our generous community sponsor.
X-ALT-DESC;FMTTYPE=text/html:Free Fun Swim. Swim for free today! Thank you to Wardrop Pharmasave\, our generous community sponsor.
LOCATION:Centennial Pool\, 649 Mill Creek Road\, Port Elgin
UID:e.2689.17805
SEQUENCE:3
DTSTAMP:20260421T115937Z
URL:https://www.saugeenshoreschamber.ca/events/details/free-fun-swim-12-23-2018-17805
END:VEVENT

END:VCALENDAR
