BEGIN:VCALENDAR
VERSION:2.0
PRODID:-//ChamberMaster//Event Calendar 2.0//EN
METHOD:PUBLISH
X-PUBLISHED-TTL:P3D
REFRESH-INTERVAL:P3D
CALSCALE:GREGORIAN
BEGIN:VEVENT
DTSTART:20181231T230000Z
DTEND:20190101T020000Z
X-MICROSOFT-CDO-ALLDAYEVENT:FALSE
SUMMARY:Free New Year's Eve Public Skate (Coliseum)
DESCRIPTION:Free New Year's Event Public Skate (Coliseum). Skate for free today! Thank you to Southampton Royal Canadian Legion Branch 155\, our generous community sponsor.
X-ALT-DESC;FMTTYPE=text/html:Free New Year&#39\;s Event Public Skate (Coliseum). Skate for free today! Thank you to Southampton Royal Canadian Legion Branch 155\, our generous community sponsor.
LOCATION:The Coliseum\, 26 Albert Street South\, Southampton
UID:e.2689.17813
SEQUENCE:3
DTSTAMP:20260421T133921Z
URL:https://www.saugeenshoreschamber.ca/events/details/free-new-year-s-eve-public-skate-coliseum-17813
END:VEVENT

END:VCALENDAR
