BEGIN:VCALENDAR
VERSION:2.0
PRODID:-//ChamberMaster//Event Calendar 2.0//EN
METHOD:PUBLISH
X-PUBLISHED-TTL:P3D
REFRESH-INTERVAL:P3D
CALSCALE:GREGORIAN
BEGIN:VEVENT
DTSTART:20181231T230000Z
DTEND:20190101T020000Z
X-MICROSOFT-CDO-ALLDAYEVENT:FALSE
SUMMARY:Free New Year's Eve Public Skate (Plex)
DESCRIPTION:Free New Year's Eve Public Skate (Plex). Skate for free today! Thank you to SouthPort Church\, our generous community sponsor
X-ALT-DESC;FMTTYPE=text/html:Free New Year&#39\;s Eve Public Skate (Plex). Skate for free today! Thank you to SouthPort Church\, our generous community sponsor
LOCATION:The Plex\, 600 Tomlinson Drive\, Port Elgin
UID:e.2689.17812
SEQUENCE:3
DTSTAMP:20260421T120052Z
URL:https://www.saugeenshoreschamber.ca/events/details/free-new-year-s-eve-public-skate-plex-17812
END:VEVENT

END:VCALENDAR
