BEGIN:VCALENDAR
VERSION:2.0
PRODID:-//ChamberMaster//Event Calendar 2.0//EN
METHOD:PUBLISH
X-PUBLISHED-TTL:P3D
REFRESH-INTERVAL:P3D
CALSCALE:GREGORIAN
BEGIN:VEVENT
DTSTART:20181230T193000Z
DTEND:20181230T210000Z
X-MICROSOFT-CDO-ALLDAYEVENT:FALSE
SUMMARY:Free Public Skate (Coliseum)
DESCRIPTION:Free Public Skate (Coliseum). Skate for free today! Thank you to Mowbray's Canadian Tire\, our generous community sponsor.
X-ALT-DESC;FMTTYPE=text/html:Free Public Skate (Coliseum). Skate for free today! Thank you to Mowbray&#39\;s Canadian Tire\, our generous community sponsor.
LOCATION:The Coliseum\, 26 Albert Street South\, Southampton
UID:e.2689.17811
SEQUENCE:3
DTSTAMP:20260421T115940Z
URL:https://www.saugeenshoreschamber.ca/events/details/free-public-skate-coliseum-12-30-2018-17811
END:VEVENT

END:VCALENDAR
