BEGIN:VCALENDAR
VERSION:2.0
PRODID:-//ChamberMaster//Event Calendar 2.0//EN
METHOD:PUBLISH
X-PUBLISHED-TTL:P3D
REFRESH-INTERVAL:P3D
CALSCALE:GREGORIAN
BEGIN:VEVENT
DTSTART:20181227T193000Z
DTEND:20181227T210000Z
X-MICROSOFT-CDO-ALLDAYEVENT:FALSE
SUMMARY:Free Public Skate (Coliseum)
DESCRIPTION:Free Public Skate (Coliseum). Skate for free today! Thank you to Rotary Club of Southampton\, http://www.southamptonrotary.com/\, our generous community sponsor.
X-ALT-DESC;FMTTYPE=text/html:Free Public Skate (Coliseum). Skate for free today! Thank you to Rotary Club of Southampton\,&nbsp\;<a href="http://www.southamptonrotary.com/">http://www.southamptonrotary.com/</a>\, our generous community sponsor.
LOCATION:The Coliseum\, 26 Albert Street South\, Southampton
UID:e.2689.17808
SEQUENCE:3
DTSTAMP:20260421T133227Z
URL:https://www.saugeenshoreschamber.ca/events/details/free-public-skate-coliseum-17808
END:VEVENT

END:VCALENDAR
