BEGIN:VCALENDAR
VERSION:2.0
PRODID:-//ChamberMaster//Event Calendar 2.0//EN
METHOD:PUBLISH
X-PUBLISHED-TTL:P3D
REFRESH-INTERVAL:P3D
CALSCALE:GREGORIAN
BEGIN:VEVENT
DTSTART:20180929T140000Z
DTEND:20180929T190000Z
X-MICROSOFT-CDO-ALLDAYEVENT:FALSE
SUMMARY:Friends of the Library Book Sale
DESCRIPTION:Saturday\, September 29th.
X-ALT-DESC;FMTTYPE=text/html:Saturday\, September 29th.
LOCATION:Port Elgin Branch Library
UID:e.2689.17585
SEQUENCE:3
DTSTAMP:20260420T150224Z
URL:https://www.saugeenshoreschamber.ca/events/details/friends-of-the-library-book-sale-17585
END:VEVENT

END:VCALENDAR
