BEGIN:VCALENDAR
VERSION:2.0
PRODID:-//ChamberMaster//Event Calendar 2.0//EN
METHOD:PUBLISH
X-PUBLISHED-TTL:P3D
REFRESH-INTERVAL:P3D
CALSCALE:GREGORIAN
BEGIN:VEVENT
DTSTART:20181018T133000Z
DTEND:20181018T143000Z
X-MICROSOFT-CDO-ALLDAYEVENT:FALSE
SUMMARY:Friends of the Library Meeting
DESCRIPTION:
X-ALT-DESC;FMTTYPE=text/html:
LOCATION:Port Elgin Branch Library
UID:e.2689.17579
SEQUENCE:3
DTSTAMP:20260420T181540Z
URL:https://www.saugeenshoreschamber.ca/events/details/friends-of-the-library-meeting-17579
END:VEVENT

END:VCALENDAR
