BEGIN:VCALENDAR
VERSION:2.0
PRODID:-//ChamberMaster//Event Calendar 2.0//EN
METHOD:PUBLISH
X-PUBLISHED-TTL:P3D
REFRESH-INTERVAL:P3D
CALSCALE:GREGORIAN
BEGIN:VEVENT
DTSTART;VALUE=DATE:20210526
DTEND;VALUE=DATE:20210527
TRANSP:TRANSPARENT
X-MICROSOFT-CDO-ALLDAYEVENT:TRUE
SUMMARY:FUNDRAISER FOR JOSE CORONADO from Domino's Pizza Port Elgin
DESCRIPTION:In April 2021\, Port Elgin farm worker Jose Coronado passed away in Port Elgin of natural causes unrelated to Covid.  He was the sole financial support for his family in Mexico.  $5.00 from each order will be donated back to Jose's family.
X-ALT-DESC;FMTTYPE=text/html:In April 2021\, Port Elgin farm worker Jose Coronado passed away in Port Elgin of natural causes unrelated to Covid. &nbsp\;He was the sole financial support for his family in Mexico. &nbsp\;$5.00 from each order will be donated back to Jose&#39\;s family.
LOCATION:
UID:e.2689.24127
SEQUENCE:3
DTSTAMP:20260419T153108Z
URL:https://www.saugeenshoreschamber.ca/events/details/fundraiser-for-jose-coronado-from-domino-s-pizza-port-elgin-24127
END:VEVENT

END:VCALENDAR
